BEGIN:VCALENDAR
VERSION:2.0
PRODID:-//wp-events-plugin.com//6.4.5.1//EN
TZID:Europe/Zagreb
X-WR-TIMEZONE:Europe/Zagreb
BEGIN:VEVENT
UID:19@tonimilun.com
DTSTART;TZID=Europe/Zagreb:20260509T080000
DTEND;TZID=Europe/Zagreb:20260509T170000
DTSTAMP:20260421T130741Z
URL:https://tonimilun.com/događanja/program-koykan/
SUMMARY:Program KOYKAN CAPITAL & INVESTORS FORUM
DESCRIPTION:
END:VEVENT
BEGIN:VTIMEZONE
TZID:Europe/Zagreb
X-LIC-LOCATION:Europe/Zagreb
BEGIN:DAYLIGHT
DTSTART:20260329T030000
TZOFFSETFROM:+0100
TZOFFSETTO:+0200
TZNAME:CEST
END:DAYLIGHT
END:VTIMEZONE
END:VCALENDAR